BEGIN:VCALENDAR
VERSION:2.0
PRODID:-//Voluntary Action Camden - ECPv6.15.18//NONSGML v1.0//EN
CALSCALE:GREGORIAN
METHOD:PUBLISH
X-ORIGINAL-URL:https://vac.org.uk
X-WR-CALDESC:Events for Voluntary Action Camden
REFRESH-INTERVAL;VALUE=DURATION:PT1H
X-Robots-Tag:noindex
X-PUBLISHED-TTL:PT1H
BEGIN:VTIMEZONE
TZID:Europe/London
BEGIN:DAYLIGHT
TZOFFSETFROM:+0000
TZOFFSETTO:+0100
TZNAME:BST
DTSTART:20240331T010000
END:DAYLIGHT
BEGIN:STANDARD
TZOFFSETFROM:+0100
TZOFFSETTO:+0000
TZNAME:GMT
DTSTART:20241027T010000
END:STANDARD
BEGIN:DAYLIGHT
TZOFFSETFROM:+0000
TZOFFSETTO:+0100
TZNAME:BST
DTSTART:20250330T010000
END:DAYLIGHT
BEGIN:STANDARD
TZOFFSETFROM:+0100
TZOFFSETTO:+0000
TZNAME:GMT
DTSTART:20251026T010000
END:STANDARD
BEGIN:DAYLIGHT
TZOFFSETFROM:+0000
TZOFFSETTO:+0100
TZNAME:BST
DTSTART:20260329T010000
END:DAYLIGHT
BEGIN:STANDARD
TZOFFSETFROM:+0100
TZOFFSETTO:+0000
TZNAME:GMT
DTSTART:20261025T010000
END:STANDARD
END:VTIMEZONE
BEGIN:VEVENT
DTSTART;TZID=Europe/London:20250924T093000
DTEND;TZID=Europe/London:20250924T123000
DTSTAMP:20260421T135712
CREATED:20250910T135418Z
LAST-MODIFIED:20250910T135525Z
UID:40788-1758706200-1758717000@vac.org.uk
SUMMARY:Face-to face: Managing Your Finances
DESCRIPTION:Wednesday 24th September: 9.30am – 12.30pm\nThe Crowndale Centre\, 218 Eversholt St\, NW1 1BD\nAre you managing money on behalf of a community group\, voluntary organisation\, or residents’ association?  \nAll voluntary organisations\, including supplementary education settings\, Tenant Resident Associations (TRAs)\, and community groups who handle money; need careful financial management to ensure accountability and sustainability. \nIn these challenging times\, having strategies for the long-term survival and growth of your organisation is essential. So\, join us for this introductory managing money course\, which aims to cover the finance essentials. \nAt the end of the session learners will gain an understanding of: \n\nManaging money and Value for Money\nLegal mismanagement and public funds.\nKeeping accurate financial records.\nBudgeting & cashflow\nMonitoring costs (briefly)\n\nImportant note to members: \n\nPlaces on this session are extremely limited\, therefore only one member of an organisation is permitted to attend.\nIf you have purchased a free ticket and are unable to attend\, please pass your place onto another member of your organisation.\nAlternatively email Ricky Singh at: rsingh@vac.org.uk  so your place can be offered to another learner.\nAll ticket sales will be verified\, and VAC reserve the right to charge a £25 no-show penalty fee to member organisations for non-attendance.\n\nBook your free place\nhttps://buytickets.at/voluntaryactioncamden/1858017
URL:https://vac.org.uk/event/face-to-face-managing-your-finances/
CATEGORIES:CEO / Leadership,Funding and Finance
END:VEVENT
END:VCALENDAR