BEGIN:VCALENDAR
VERSION:2.0
PRODID:-//Voluntary Action Camden - ECPv6.15.18//NONSGML v1.0//EN
CALSCALE:GREGORIAN
METHOD:PUBLISH
X-WR-CALNAME:Voluntary Action Camden
X-ORIGINAL-URL:https://vac.org.uk
X-WR-CALDESC:Events for Voluntary Action Camden
REFRESH-INTERVAL;VALUE=DURATION:PT1H
X-Robots-Tag:noindex
X-PUBLISHED-TTL:PT1H
BEGIN:VTIMEZONE
TZID:Europe/London
BEGIN:DAYLIGHT
TZOFFSETFROM:+0000
TZOFFSETTO:+0100
TZNAME:BST
DTSTART:20240331T010000
END:DAYLIGHT
BEGIN:STANDARD
TZOFFSETFROM:+0100
TZOFFSETTO:+0000
TZNAME:GMT
DTSTART:20241027T010000
END:STANDARD
BEGIN:DAYLIGHT
TZOFFSETFROM:+0000
TZOFFSETTO:+0100
TZNAME:BST
DTSTART:20250330T010000
END:DAYLIGHT
BEGIN:STANDARD
TZOFFSETFROM:+0100
TZOFFSETTO:+0000
TZNAME:GMT
DTSTART:20251026T010000
END:STANDARD
BEGIN:DAYLIGHT
TZOFFSETFROM:+0000
TZOFFSETTO:+0100
TZNAME:BST
DTSTART:20260329T010000
END:DAYLIGHT
BEGIN:STANDARD
TZOFFSETFROM:+0100
TZOFFSETTO:+0000
TZNAME:GMT
DTSTART:20261025T010000
END:STANDARD
END:VTIMEZONE
BEGIN:VEVENT
DTSTART;TZID=Europe/London:20251007T103000
DTEND;TZID=Europe/London:20251007T113000
DTSTAMP:20260421T154100
CREATED:20250902T102648Z
LAST-MODIFIED:20250902T102648Z
UID:40764-1759833000-1759836600@vac.org.uk
SUMMARY:Online: Introduction to marketing\, communications & social media: Voluntary and community organisations.
DESCRIPTION:Online Workshop: Tuesday 7th October 10.30am – 11.30am\nAt VAC we understand the busy schedules\, limited resources and time-poor challenges that voluntary and community organising often face. \nTherefore\, having an effective communication and marketing strategy is essential in helping you connect with services users\, attract funding\, and even achieve your organisational aims. \nJoin us for this introduction to marketing and communications workshop; as VAC’s Communication’s Lead Duncan Cordy takes us through his multi-faceted approach to effective marketing. \nThe session will cover:\n\nDeveloping a clear communication strategy.\nCreating engaging and eye-catching content.\nIndependently overseeing all communications.\nUtilising digital platforms and social media.\n\nNon-attendance:\n\nVAC kindly ask that if you book a place and are unable to attend on the day\, please arrange for a volunteer or another member of your organisation to attend in your place.\nAlternatively\, please email Ricky Singh Tokhi at: rsingh@vac.org.uk in advance and your place can be offered to another learner on our wating list.\nFailure to notify VAC of non-attendance in advance\, will result in your organisation / groups restriction to attend future training sessions.\nFor more information or questions regarding suitability of this training and upcoming events and workshops\, please email: Dianne Carlton-Ogunyemi at: dogunyemi@vac.org.uk\n\nBook your free place\nhttps://buytickets.at/voluntaryactioncamden/1844595
URL:https://vac.org.uk/event/online-introduction-to-marketing-communications-social-media-voluntary-and-community-organisations/
CATEGORIES:Safeguarding event
END:VEVENT
END:VCALENDAR